BEGIN:VCALENDAR
VERSION:2.0
PRODID:< http://www.open2c.de/ >
METHOD:PUBLISH
X-PUBLISHED-TTL:PT12H
BEGIN:VEVENT
CREATED:20260206T073906Z
LAST-MODIFIED:20260206T074007Z
ORGANIZER;CN="TSV Balzhausen"
DTSTAMP:20260420T141506Z
DTSTART;VALUE=DATE:20260424
CATEGORIES:Vereine
SUMMARY:TSV Balzhausen - Mitgliederversammlung 2026
DESCRIPTION:Organisator TSV Balzhausen
LOCATION:Gasthaus Adler\, \nSt.-Leonhard-Straße 1\n86483 Balzhausen
UID:87fc50dc9ed7abd47869e8c59ff2602b@bd5c47200906b99c31b2c30d1f94bfd4
END:VEVENT
BEGIN:VEVENT
CREATED:20260206T074025Z
LAST-MODIFIED:20260206T074108Z
ORGANIZER;CN="Sozialverband VdK Bayern OV Thannhausen"
DTSTAMP:20260420T141506Z
DTSTART;VALUE=DATE:20260425
CATEGORIES:Vereine
SUMMARY:VdK  - Jahreshauptversammlung 2026
DESCRIPTION:Organisator Sozialverband VdK Bayern OV Thannhausen
LOCATION:Barbarahof \nHölderlinstraße 2\n86470 Thannhausen
UID:d876ac8151bcd1d022bb3a432cddea07@bd5c47200906b99c31b2c30d1f94bfd4
END:VEVENT
BEGIN:VEVENT
CREATED:20260206T074135Z
LAST-MODIFIED:20260206T074228Z
ORGANIZER;CN="Musikverein Balzhausen"
DTSTAMP:20260420T141506Z
DTSTART;VALUE=DATE:20260425
CATEGORIES:Vereine
SUMMARY:Musikverein Balzhausen - Maibaum aufstellen 2026
DESCRIPTION:Organisator Musikverein Balzhausen
LOCATION:Dorfplatz\n86483 Balzhausen
UID:2327b2b47623632ad1e4ce48c994b72c@bd5c47200906b99c31b2c30d1f94bfd4
END:VEVENT
BEGIN:VEVENT
CREATED:20260206T074248Z
LAST-MODIFIED:20260206T074331Z
ORGANIZER;CN="Fischereiverein Balzhausen e.V."
DTSTAMP:20260420T141506Z
DTSTART:20260426T070000Z
DTEND:20260426T120000Z
CATEGORIES:Vereine
SUMMARY:Fischereiverein Balzhausen e.V. - Kameradschaftsfischen 2026
DESCRIPTION:Organisator Fischereiverein Balzhausen e.V.
UID:34a0ca7840aa87da86480d4963c31da0@bd5c47200906b99c31b2c30d1f94bfd4
END:VEVENT
BEGIN:VEVENT
CREATED:20260311T103102Z
LAST-MODIFIED:20260311T103419Z
ORGANIZER;CN="Pfarrgemeinderat Thannhausen"
DTSTAMP:20260420T141506Z
DTSTART:20260426T160000Z
DTEND:20260426T180000Z
CATEGORIES:Kirche
SUMMARY:Glaubenszeugnisse am Wegesrand
DESCRIPTION:Hinweis: Treffpunkt wird im Pfarrblatt bekannt gegeben. Ausklan
	g im Pfarrgarten mit gemeinsamer Brotzeit\, diese bitte selber mitbringen. 
	Organisator Pfarrgemeinderat Thannhausen
LOCATION:Wird im Pfarrblatt bekannt gegeben
UID:c01486ecf1ec29591347d42c576b563e@bd5c47200906b99c31b2c30d1f94bfd4
END:VEVENT
BEGIN:VEVENT
CREATED:20260121T160731Z
LAST-MODIFIED:20260121T160844Z
ORGANIZER;CN="Gasthof Adler"
DTSTAMP:20260420T141506Z
DTSTART:20260428T193000Z
DTEND:20260428T223000Z
CATEGORIES:Verschiedenes
SUMMARY:Wirtshaussingen im Gasthof Adler
DESCRIPTION:Organisator Gasthof Adler
LOCATION:Gasthof Adler\nSt.-Leonhard-Straße 1\n86483 Balzhausen
UID:d09b32ecf2cc8fc37e8ae1ea42d24f60@bd5c47200906b99c31b2c30d1f94bfd4
END:VEVENT
END:VCALENDAR