BEGIN:VCALENDAR
VERSION:2.0
PRODID:< http://www.open2c.de/ >
METHOD:PUBLISH
X-PUBLISHED-TTL:PT12H
BEGIN:VEVENT
CREATED:20260102T110007Z
LAST-MODIFIED:20260102T110107Z
ORGANIZER;CN="Seniorengemeinschaft Thannhausen"
DTSTAMP:20260419T144054Z
DTSTART;VALUE=DATE:20260909
CATEGORIES:Vereine
SUMMARY:Seniorengemeinschaft Thannhausen -Ausflug - Bekanntgabe des Zieles folgt
DESCRIPTION:Organisator Seniorengemeinschaft Thannhausen
LOCATION:Katholisches Pfarrheim\nFrühmeßstr. 9\n86470 Thannhausen
UID:87bd9f227e724512508f745fc03de648@bd5c47200906b99c31b2c30d1f94bfd4
END:VEVENT
END:VCALENDAR