BEGIN:VCALENDAR
VERSION:1.0
PRODID:Open2CKalenderExportV11
BEGIN:VEVENT
DTSTAMP:20260206T091940Z
DTSTART:20261129T140000Z
DTEND:20261129T140000Z
CATEGORIES:Vereine
SUMMARY:Krieger- und Soldatenverein Balzhausen - Adventskaffee mit Ausflüglertreffen
DESCRIPTION: | Organisator   Krieger- und Soldatenverein Balzhausen e.V.
LOCATION:Gasthaus Adler Saal, 
 St.-Leonhard-Straße 1
 86483 Balzhausen
UID:cc3ef0bfbae351483dc402c6c1f67199-b410f4eeb8cd486071e86b87dcea5a59
PRIORITY:3
END:VEVENT
END:VCALENDAR
