BEGIN:VCALENDAR
VERSION:1.0
PRODID:Open2CKalenderExportV11
BEGIN:VEVENT
DTSTAMP:20260206T091734Z
DTSTART:20261117T183000Z
DTEND:20261117T183000Z
CATEGORIES:Vereine
SUMMARY:Obst- und Gartenbauverein Balzhausen - Engelstrompeten basteln aus Goldpapier als Christbaumschmuck
DESCRIPTION: | Organisator   Obst- und Gartenbauverein Balzhausen
LOCATION:Vereinsheim beim Strehle
 86483 Balzhausen
UID:6c24ec035680ce050bd25de439df539b-a78add69320768cc3f4dfc9eb5c10451
PRIORITY:3
END:VEVENT
END:VCALENDAR
