BEGIN:VCALENDAR
VERSION:1.0
PRODID:Open2CKalenderExportV11
BEGIN:VEVENT
DTSTAMP:20260206T075127Z
DTSTART:20260611T143000Z
DTEND:20260611T143000Z
CATEGORIES:Vereine
SUMMARY:Pfarrgemeinde Balzhausen - Seniorennachmittag
DESCRIPTION: | Organisator   Pfarrgemeinde St. Vitus Balzhausen
LOCATION:Pfarrheim Balzhausen
UID:9a2bca2ac507892153290246241e4e8a-f41340dbaf1417c211b8062814f7c2c0
PRIORITY:3
END:VEVENT
BEGIN:VEVENT
DTSTAMP:20260206T070816Z
DTSTART:20260613T090000Z
DTEND:20260613T090000Z
CATEGORIES:Vereine
SUMMARY:Fischereiverein Balzhausen e.V. - Altpapiersammlung
DESCRIPTION: | Organisator   Fischereiverein Balzhausen e. V.
LOCATION:
UID:050d86785854327fe03c86a76003a328-99a59c6696131e86407eb2bdd40c5912
PRIORITY:3
END:VEVENT
BEGIN:VEVENT
DTSTAMP:20260417T064005Z
DTSTART:20260614T110000Z
DTEND:20260614T160000Z
CATEGORIES:Kinder
SUMMARY:Bücherflohmarkt - Anton-Höfer-Grundschule - Elternbeirat
DESCRIPTION: | Organisator   Anton-Höfer-Grundschule - Elternbeirat
LOCATION:Anton-Höfer-Grundschule Thannhausen
 Röschstraße 10
 86470 Thannhausen
UID:ad3d752a08c4b892122ebffa43a8f46c-e4c059a8476b7404d719cc6574699039
PRIORITY:3
END:VEVENT
BEGIN:VEVENT
DTSTAMP:20260206T085001Z
DTSTART:20260626T180000Z
DTEND:20260626T180000Z
CATEGORIES:Vereine
SUMMARY:Obst- und Gartenbauverein Balzhausen - Wanderung nach Haselbach
DESCRIPTION: | Organisator   Obts- und Gartenbauverein Balzhausen
LOCATION:Burgschänke Haselbach
UID:34fbe7aac7f143276c7218eda47a0efa-de54857f178c23d1c57c222c146c0eb8
PRIORITY:3
END:VEVENT
BEGIN:VEVENT
DTSTAMP:20260206T085159Z
DTSTART:20260627T170000Z
DTEND:20260627T170000Z
CATEGORIES:Vereine
SUMMARY:Fischereiverein Balzhausen e.V. - Sommernachtsfest 2026
DESCRIPTION:nur bei guter Witterung | Ausweichtermin 04.07.2026 | Organisator   Fischereiverein Balzhausen e.V.
LOCATION:Vereinsweiher
 86483 Balzhausen
UID:446ee28af78d9dd5a9d52d5b21ca4194-2208148cee1c337ebef4e7be5a6e565d
PRIORITY:3
END:VEVENT
BEGIN:VEVENT
DTSTAMP:20260121T161026Z
DTSTART:20260630T193000Z
DTEND:20260630T223000Z
CATEGORIES:Verschiedenes
SUMMARY:Wirtshaussingen im Gasthof Adler
DESCRIPTION: | Organisator   Gasthof Adler
LOCATION:Gasthof Adler
 St.-Leonhard-Straße 1
 86483 Balzhausen
UID:8f04ad7271dbfb748c53d2d417558bdb-dc72d9fe8de887b5129053a3c391d814
PRIORITY:3
END:VEVENT
END:VCALENDAR
