BEGIN:VCALENDAR
VERSION:1.0
PRODID:Open2CKalenderExportV11
BEGIN:VEVENT
DTSTAMP:20251028T094909Z
DTSTART:20260625T200000Z
DTEND:20260625T200000Z
CATEGORIES:Bürgerversammlung
SUMMARY:BÜRGERVERSAMMLUNGEN für die Stadt Thannhausen und ihre Stadtteile - Burg
DESCRIPTION:Die BÜRGERVERSAMMLUNGEN für die Stadt Thannhausen und ihre Stadtteile finden zu folgenden Terminen statt: |   | Donnerstag,    den 25. Juni 2026, um 20:00 Uhr, im Schützenheim Burg, | (Sonntag, den 28. Juni 2026, um 18:00 Uhr, in der Aula der Anton-Höfer-Grundschule) |   |      |     |           | Organisator   Stadt Thannhausen
LOCATION:Schützenheim Burg
 Dorfstraße 49
 Stadtteil Burg
 86470 Thannhausen
UID:8dcf1e8f4fb00f2ddd161a1911092f53-65f6ed2fbe37fdebdf2b087517e30200
PRIORITY:3
END:VEVENT
END:VCALENDAR
