BEGIN:VCALENDAR
VERSION:1.0
PRODID:Open2CKalenderExportV11
BEGIN:VEVENT
DTSTAMP:20260420T070100Z
DTSTART:20260512T193000Z
DTEND:20260512T193000Z
CATEGORIES:Sitzungen
SUMMARY:Sitzung des Stadtrates Thannhausen
DESCRIPTION:Konstituierende Sitzung | Organisator   Stadt Thannhausen
LOCATION:Rathaus Thannhausen
 Sitzungssaal 2.02
 Edm.-Zimmermann-Str. 3
 86470 Thannhausen
UID:d55a8d74d47e007a8642c8917358cd88-de728d6e451c962e17be98e6dfc66d7f
PRIORITY:3
END:VEVENT
END:VCALENDAR
